BEGIN:VCALENDAR
VERSION:2.0
PRODID:-//Contratero//ES
CALSCALE:GREGORIAN
METHOD:PUBLISH
BEGIN:VEVENT
UID:2026/014 PA@contratero.es
DTSTAMP:20260420T032306Z
DTSTART:20260309T235959
DTEND:20260310T005959
SUMMARY:Cierre: Servicio de gestión de incidentes de cibersegurida
DESCRIPTION:Servicio de gestión de incidentes de ciberseguridad\\n\\nOrganismo: Presidencia de la Autoridad Independiente de Responsabilidad Fiscal\\n\\nVer en Contratero: https://contratero.es/contracts/2026/014 PA
URL:https://contratero.es/contracts/2026/014 PA
STATUS:CONFIRMED
BEGIN:VALARM
TRIGGER:-P1D
ACTION:DISPLAY
DESCRIPTION:Recordatorio: Servicio de gestión de inciden
END:VALARM
END:VEVENT
END:VCALENDAR